BEGIN:VCALENDAR
VERSION:2.0
PRODID:-//wp-events-plugin.com//7.2.3//EN
TZID:Europe/Berlin
X-WR-TIMEZONE:Europe/Berlin
BEGIN:VEVENT
UID:59@imkerverein-berlin-lichterfelde.de
DTSTART:20230214T190000Z
DTEND:20230214T210000Z
DTSTAMP:20230201T095123Z
URL:https://imkerverein-berlin-lichterfelde.de/events/vereinsversammlung-3
 -2023-02-14/
SUMMARY:Vereinsversammlung
DESCRIPTION:
ATTACH;FMTTYPE=image/jpeg:https://imkerverein-berlin-lichterfelde.de/wp-co
 ntent/uploads/2018/12/animal-1685868-scaled.jpg
CATEGORIES:Verein Lichterfelde,Vereinsversammlung
LOCATION:Gemeinschaftsraum der Grundschule unter den Kastanien\, Kastaniens
 tr. 6-8\, Berlin\, Berlin\, 12209\, Berlin\, Deutschland
GEO:52.4258976;13.3253066
X-APPLE-STRUCTURED-LOCATION;VALUE=URI;X-ADDRESS=Kastanienstr. 6-8\, Berlin\
 , Berlin\, 12209\, Berlin\, Deutschland;X-APPLE-RADIUS=100;X-TITLE=Gemeins
 chaftsraum der Grundschule unter den Kastanien:geo:52.4258976,13.3253066
END:VEVENT
END:VCALENDAR